BEGIN:VCALENDAR
VERSION:2.0
PRODID:http://www.pastoraler-raum-sinzig.de
BEGIN:VEVENT
UID:03f4ed34-07c9-11f1-8342-0242ac11002b-1779465600000-de
DTSTAMP:20260212T041216Z
DTSTART:20260522T160000Z
DTEND:20260522T164500Z
SUMMARY;LANGUAGE=de: Maiandacht der Frauengemeinschaft St. Marien mit Breisiger Abendmusik Kirchdauner Dorf-Musikanten 
END:VEVENT
END:VCALENDAR
