BEGIN:VCALENDAR
VERSION:2.0
PRODID:http://www.pastoraler-raum-sinzig.de
BEGIN:VEVENT
UID:570a5b69-3ec2-11f1-a3e9-0242ac11002b-1781852400000-de
DTSTAMP:20260423T031303Z
DTSTART:20260619T070000Z
DTEND:20260619T074500Z
SUMMARY;LANGUAGE=de: Kindergarten-Gottesdienst mit Verabschiedung der Schulkinder
END:VEVENT
END:VCALENDAR
