BEGIN:VCALENDAR
VERSION:2.0
PRODID:http://www.pastoraler-raum-sinzig.de
BEGIN:VEVENT
UID:58e906b9-3ec2-11f1-a3e9-0242ac11002b-1785513600000-de
DTSTAMP:20260423T031306Z
DTSTART:20260731T160000Z
DTEND:20260731T164500Z
SUMMARY;LANGUAGE=de: Hl. Messe zum 100-jährigen Bestehen der Freiwilligen Feuerwehr Westum 
END:VEVENT
END:VCALENDAR
