BEGIN:VCALENDAR
VERSION:2.0
PRODID:http://www.pastoraler-raum-sinzig.de
BEGIN:VEVENT
UID:5a99ea6f-3ec2-11f1-a3e9-0242ac11002b-1781877600000-de
DTSTAMP:20260423T031308Z
DTSTART:20260619T140000Z
DTEND:20260619T144500Z
SUMMARY;LANGUAGE=de: Kindergarten-Gottesdienst mit Verabschiedung der Schulkinder
END:VEVENT
END:VCALENDAR
