BEGIN:VCALENDAR
VERSION:2.0
PRODID:http://www.pastoraler-raum-sinzig.de
BEGIN:VEVENT
UID:60c3fee0-0edb-11f1-8342-0242ac11002b-1780214400000-de
DTSTAMP:20260221T041120Z
DTSTART:20260531T080000Z
DTEND:20260531T085000Z
SUMMARY;LANGUAGE=de:hl. Messe zur Firmung mitgestaltet vom Gospelchor Burgbrohl
END:VEVENT
END:VCALENDAR
