BEGIN:VCALENDAR
VERSION:2.0
PRODID:http://www.pastoraler-raum-sinzig.de
BEGIN:VEVENT
UID:ab9aa9fe-3f8b-11f1-a3e9-0242ac11002b-1785600000000-de
DTSTAMP:20260424T031413Z
DTSTART:20260801T160000Z
DTEND:20260801T170000Z
SUMMARY;LANGUAGE=de:Vorabendmesse, musikalisch gestaltet von der Klostergemeinschaft
END:VEVENT
END:VCALENDAR
