BEGIN:VCALENDAR
VERSION:2.0
PRODID:http://www.pastoraler-raum-sinzig.de
BEGIN:VEVENT
UID:e149d98d-3c66-11f1-a3e9-0242ac11002b-1785256200000-de
DTSTAMP:20260420T031318Z
DTSTART:20260728T163000Z
DTEND:20260728T173000Z
SUMMARY;LANGUAGE=de:Wortgottesfeier
URL:http://www.pastoraler-raum-sinzig.de/aktuelles/gottesdienste/gottesdienst/Wortgottesfeier-2026.07.28/
END:VEVENT
END:VCALENDAR
