BEGIN:VCALENDAR
VERSION:2.0
PRODID:http://www.pastoraler-raum-sinzig.de
BEGIN:VEVENT
UID:f004a535-16d4-11f1-8342-0242ac11002b-1774769400000-de
DTSTAMP:20260303T074524Z
DTSTART:20260329T073000Z
DTEND:20260329T090000Z
SUMMARY;LANGUAGE=de:Prozession am Palmsonntag zur Kirche St. Remaclus, Waldorf 
DESCRIPTION;LANGUAGE=de:Herzliche Einladung zur FamilienWortGottesFeier in der St. Remaclus Kirche in Waldorf. Treffunkt ist um 09:30 Uhr am Kindergarten\, Große Gasse 8. Von dort gehen wir in einer Prozssion zur Kirche zur FamilienWortGottesFeier.
END:VEVENT
END:VCALENDAR
